BEGIN:VCALENDAR
VERSION:2.0
PRODID:-//Club Vision Numérique - ECPv6.15.20//NONSGML v1.0//EN
CALSCALE:GREGORIAN
METHOD:PUBLISH
X-WR-CALNAME:Club Vision Numérique
X-ORIGINAL-URL:https://club-vision-numerique.fr
X-WR-CALDESC:Évènements pour Club Vision Numérique
REFRESH-INTERVAL;VALUE=DURATION:PT1H
X-Robots-Tag:noindex
X-PUBLISHED-TTL:PT1H
BEGIN:VTIMEZONE
TZID:Europe/Paris
BEGIN:DAYLIGHT
TZOFFSETFROM:+0100
TZOFFSETTO:+0200
TZNAME:CEST
DTSTART:20210328T010000
END:DAYLIGHT
BEGIN:STANDARD
TZOFFSETFROM:+0200
TZOFFSETTO:+0100
TZNAME:CET
DTSTART:20211031T010000
END:STANDARD
BEGIN:DAYLIGHT
TZOFFSETFROM:+0100
TZOFFSETTO:+0200
TZNAME:CEST
DTSTART:20220327T010000
END:DAYLIGHT
BEGIN:STANDARD
TZOFFSETFROM:+0200
TZOFFSETTO:+0100
TZNAME:CET
DTSTART:20221030T010000
END:STANDARD
BEGIN:DAYLIGHT
TZOFFSETFROM:+0100
TZOFFSETTO:+0200
TZNAME:CEST
DTSTART:20230326T010000
END:DAYLIGHT
BEGIN:STANDARD
TZOFFSETFROM:+0200
TZOFFSETTO:+0100
TZNAME:CET
DTSTART:20231029T010000
END:STANDARD
END:VTIMEZONE
BEGIN:VEVENT
DTSTART;TZID=Europe/Paris:20220620T170000
DTEND;TZID=Europe/Paris:20220620T200000
DTSTAMP:20260420T041634
CREATED:20220513T120325Z
LAST-MODIFIED:20220613T154714Z
UID:1253-1655744400-1655755200@club-vision-numerique.fr
SUMMARY:Evènement INRIA / Club Vision Numérique - 20 juin 2022
DESCRIPTION:
URL:https://club-vision-numerique.fr/evenement/conference-inria/
LOCATION:INRIA Bâtiment Interface\, 170 Avenue de Bretagne\, LILLE\, 59000\, France
CATEGORIES:Pas Dans la NewsLetter
END:VEVENT
END:VCALENDAR